BEGIN:VCALENDAR
PRODID:-//Feedo Feed//NONSGML v1.0//EN
VERSION:2.0
CALSCALE:GREGORIAN
METHOD:PUBLISH
X-WR-CALNAME:Aldeias Medievais Centro Portugal
X-WR-CALDESC:mais detalhes
X-MS-OLK-FORCEINSPECTOROPEN:TRUE
BEGIN:VEVENT
DTSTAMP:20260421T204834Z
DTSTART:20261231T071500Z
DTEND:20261231T210000Z
TRANSP:TRANSPARENT
UID:2622026-12-31
SUMMARY:Aldeias Medievais Centro Portugal
DESCRIPTION:mais detalhes
URL:http://www.amaieurope.org/2011/index.php/2011-11-28-12-33-30/plano-de-actividades/plano-de-actividades-2026/aldeias-medievais-centro-portugal?format=html
CATEGORIES:Visitas/Passeios
GEO:41.1579438;-8.629105299999992
LOCATION:Porto
END:VEVENT
END:VCALENDAR