BEGIN:VCALENDAR
PRODID:-//Feedo Feed//NONSGML v1.0//EN
VERSION:2.0
CALSCALE:GREGORIAN
METHOD:PUBLISH
X-WR-CALNAME:VISITA MAC CHARTERS DE ALMEIDA E MUSEU FERROVIÁRIO
X-WR-CALDESC:mais detalhes
X-MS-OLK-FORCEINSPECTOROPEN:TRUE
BEGIN:VEVENT
DTSTAMP:20260421T204941Z
DTSTART:20261231T071500Z
DTEND:20261231T210000Z
TRANSP:TRANSPARENT
UID:2612026-12-31
SUMMARY:VISITA MAC CHARTERS DE ALMEIDA E MUSEU FERROVIÁRIO
DESCRIPTION:mais detalhes
URL:http://www.amaieurope.org/2011/index.php/2011-11-28-12-33-30/plano-de-actividades/plano-de-actividades-2026/copy-of-copy-of-visita-ao-museu-aristides-de-sousa-mendes-1-1?format=html
CATEGORIES:Visitas/Passeios
GEO:41.1579438;-8.629105299999992
LOCATION:Porto
END:VEVENT
END:VCALENDAR